BEGIN:VCALENDAR
VERSION:2.0
PRODID:-//wp-events-plugin.com//7.2.3.1//EN
TZID:Europe/London
X-WR-TIMEZONE:Europe/London
BEGIN:VEVENT
UID:1742@canewdonvillagehall.co.uk
DTSTART;TZID=Europe/London:20241206T193000
DTEND;TZID=Europe/London:20241206T223000
DTSTAMP:20250629T171830Z
URL:https://canewdonvillagehall.co.uk/events/sisters-of-the-earth-goddess-
 circle-2024-12-06/
SUMMARY:Sisters of the Earth Goddess Circle
DESCRIPTION:
CATEGORIES:Regular Hire
END:VEVENT
BEGIN:VTIMEZONE
TZID:Europe/London
X-LIC-LOCATION:Europe/London
BEGIN:STANDARD
DTSTART:20241027T010000
TZOFFSETFROM:+0100
TZOFFSETTO:+0000
TZNAME:GMT
END:STANDARD
END:VTIMEZONE
END:VCALENDAR