BEGIN:VCALENDAR
VERSION:2.0
PRODID:-//wp-events-plugin.com//7.2.3.1//EN
TZID:Europe/London
X-WR-TIMEZONE:Europe/London
BEGIN:VEVENT
UID:2230@canewdonvillagehall.co.uk
DTSTART;TZID=Europe/London:20260708T161500
DTEND;TZID=Europe/London:20260708T191500
DTSTAMP:20250724T210405Z
URL:https://canewdonvillagehall.co.uk/events/lego-games-club-2025-09-10-20
 25-10-08-2025-11-12-2025-12-10-2026-01-14-2026-02-11-2026-03-11-2026-04-08
 -2026-05-13-2026-06-10-2026-07-08/
SUMMARY:Lego/Games club
DESCRIPTION:Join us on the 2nd and 4th Wednesdays for an after school Lego 
 and Games club\, bring your own or come and try out something new.
CATEGORIES:CCA Events
END:VEVENT
BEGIN:VTIMEZONE
TZID:Europe/London
X-LIC-LOCATION:Europe/London
BEGIN:DAYLIGHT
DTSTART:20260329T020000
TZOFFSETFROM:+0000
TZOFFSETTO:+0100
TZNAME:BST
END:DAYLIGHT
END:VTIMEZONE
END:VCALENDAR