BEGIN:VCALENDAR
VERSION:2.0
PRODID:-//wp-events-plugin.com//7.2.3.1//EN
TZID:Europe/London
X-WR-TIMEZONE:Europe/London
BEGIN:VEVENT
UID:2244@canewdonvillagehall.co.uk
DTSTART;TZID=Europe/London:20260722T161500
DTEND;TZID=Europe/London:20260722T191500
DTSTAMP:20250724T210530Z
URL:https://canewdonvillagehall.co.uk/events/lego-games-club-2-2026-07-22/
SUMMARY:LEGO/Games Club
DESCRIPTION:Join us on the 2nd and 4th Wednesdays for an after school Lego 
 and Games club\, bring your own or come and try out something new.
CATEGORIES:CCA Events
END:VEVENT
BEGIN:VTIMEZONE
TZID:Europe/London
X-LIC-LOCATION:Europe/London
BEGIN:DAYLIGHT
DTSTART:20260329T020000
TZOFFSETFROM:+0000
TZOFFSETTO:+0100
TZNAME:BST
END:DAYLIGHT
END:VTIMEZONE
END:VCALENDAR