BEGIN:VCALENDAR
VERSION:2.0
PRODID:-//wp-events-plugin.com//7.2.3.1//EN
TZID:Europe/London
X-WR-TIMEZONE:Europe/London
BEGIN:VEVENT
UID:1058@canewdonvillagehall.co.uk
DTSTART;TZID=Europe/London:20260916T190000
DTEND;TZID=Europe/London:20260916T203000
DTSTAMP:20241213T230246Z
URL:https://canewdonvillagehall.co.uk/events/allotments-committee-meeting-
 2026-09-16/
SUMMARY:Allotments Committee Meeting
DESCRIPTION:
CATEGORIES:Parish Council Meetings
END:VEVENT
BEGIN:VTIMEZONE
TZID:Europe/London
X-LIC-LOCATION:Europe/London
BEGIN:DAYLIGHT
DTSTART:20260329T020000
TZOFFSETFROM:+0000
TZOFFSETTO:+0100
TZNAME:BST
END:DAYLIGHT
END:VTIMEZONE
END:VCALENDAR